BEGIN:VCALENDAR
VERSION:2.0
PRODID:-//Honeytree HOA - ECPv6.15.20//NONSGML v1.0//EN
CALSCALE:GREGORIAN
METHOD:PUBLISH
X-ORIGINAL-URL:https://honeytreehoa.com
X-WR-CALDESC:Events for Honeytree HOA
REFRESH-INTERVAL;VALUE=DURATION:PT1H
X-Robots-Tag:noindex
X-PUBLISHED-TTL:PT1H
BEGIN:VTIMEZONE
TZID:UTC
BEGIN:STANDARD
TZOFFSETFROM:+0000
TZOFFSETTO:+0000
TZNAME:UTC
DTSTART:20220101T000000
END:STANDARD
END:VTIMEZONE
BEGIN:VEVENT
DTSTART;TZID=UTC:20230729T140000
DTEND;TZID=UTC:20230729T170000
DTSTAMP:20260421T101846
CREATED:20230712T154048Z
LAST-MODIFIED:20230712T154048Z
UID:2188-1690639200-1690650000@honeytreehoa.com
SUMMARY:Honeytree Summer Fling!
DESCRIPTION:Join us for an unforgettable HOA Summer Bash!  It’s time to soak up the sun\, connect with your neighbors\, and make lasting memories at our community event.  No registration required and this event is open to all.
URL:https://honeytreehoa.com/event/honeytree-summer-fling/
LOCATION:Honeytree Clubhouse\, 120 Cedarbend Drive\, Romeoville\, IL\, 60446\, United States
CATEGORIES:Social
END:VEVENT
END:VCALENDAR