BEGIN:VCALENDAR
VERSION:2.0
PRODID:-//Honeytree HOA - ECPv6.15.20//NONSGML v1.0//EN
CALSCALE:GREGORIAN
METHOD:PUBLISH
X-WR-CALNAME:Honeytree HOA
X-ORIGINAL-URL:https://honeytreehoa.com
X-WR-CALDESC:Events for Honeytree HOA
REFRESH-INTERVAL;VALUE=DURATION:PT1H
X-Robots-Tag:noindex
X-PUBLISHED-TTL:PT1H
BEGIN:VTIMEZONE
TZID:UTC
BEGIN:STANDARD
TZOFFSETFROM:+0000
TZOFFSETTO:+0000
TZNAME:UTC
DTSTART:20230101T000000
END:STANDARD
END:VTIMEZONE
BEGIN:VEVENT
DTSTART;TZID=UTC:20240725T180000
DTEND;TZID=UTC:20240725T210000
DTSTAMP:20260423T031910
CREATED:20240708T155715Z
LAST-MODIFIED:20250723T151742Z
UID:2585-1721930400-1721941200@honeytreehoa.com
SUMMARY:Annual Board of Directors Election Meeting- Clubhouse at 6pm
DESCRIPTION:Agenda for Election Meeting \nElection Meeting Minutes \nMinutes_from_the_HOA_Election_April_2024
URL:https://honeytreehoa.com/event/annual-board-of-directors-election-meeting-clubhouse-at-6pm/
CATEGORIES:Election
END:VEVENT
END:VCALENDAR