BEGIN:VCALENDAR
VERSION:2.0
PRODID:-//Honeytree HOA - ECPv6.15.20//NONSGML v1.0//EN
CALSCALE:GREGORIAN
METHOD:PUBLISH
X-ORIGINAL-URL:https://honeytreehoa.com
X-WR-CALDESC:Events for Honeytree HOA
REFRESH-INTERVAL;VALUE=DURATION:PT1H
X-Robots-Tag:noindex
X-PUBLISHED-TTL:PT1H
BEGIN:VTIMEZONE
TZID:UTC
BEGIN:STANDARD
TZOFFSETFROM:+0000
TZOFFSETTO:+0000
TZNAME:UTC
DTSTART:20240101T000000
END:STANDARD
END:VTIMEZONE
BEGIN:VEVENT
DTSTART;TZID=UTC:20250722T180000
DTEND;TZID=UTC:20250722T210000
DTSTAMP:20260422T082928
CREATED:20250630T173529Z
LAST-MODIFIED:20250721T181504Z
UID:3010-1753207200-1753218000@honeytreehoa.com
SUMMARY:ANNUAL ELECTION MEETING\, Tuesday\, July 22\, 2025-CLUBHOUSE AT 6PM
DESCRIPTION:Election meeting agenda \nELECTION_2025_AGENDA \n2024 Election meeting minutes to be approved \nTeams information \nJoin the meeting now: https://teams.microsoft.com/l/meetup-join/19%3ameeting_MmMwZTQ0YzYtZTc4MS00NTY2LWI1M2EtZjgyM2I0NmVmYmM3%40thread.v2/0?context=%7b%22Tid%22%3a%2233915eab-e530-443b-8711-8e1b7d55394e%22%2c%22Oid%22%3a%22873934cf-600a-4f5b-9710-ef601165194e%22%7d \nMeeting ID: 239 808 871 684 7\nPasscode: jL3Gf6He
URL:https://honeytreehoa.com/event/annual-election-meeting-tuesday-july-22-2025-clubhouse-at-6pm/
CATEGORIES:Election,Meetings
END:VEVENT
END:VCALENDAR